BEGIN:VCALENDAR
VERSION:2.0
PRODID:-//Centro Olistico a Como Essenza dell&#039;Essere - ECPv5.9.1//NONSGML v1.0//EN
CALSCALE:GREGORIAN
METHOD:PUBLISH
X-WR-CALNAME:Centro Olistico a Como Essenza dell&#039;Essere
X-ORIGINAL-URL:https://biancaessenzadellessere.it
X-WR-CALDESC:Events for Centro Olistico a Como Essenza dell&#039;Essere
BEGIN:VTIMEZONE
TZID:Europe/Rome
BEGIN:DAYLIGHT
TZOFFSETFROM:+0100
TZOFFSETTO:+0200
TZNAME:CEST
DTSTART:20250330T010000
END:DAYLIGHT
BEGIN:STANDARD
TZOFFSETFROM:+0200
TZOFFSETTO:+0100
TZNAME:CET
DTSTART:20251026T010000
END:STANDARD
END:VTIMEZONE
BEGIN:VEVENT
DTSTART;TZID=Europe/Rome:20250907T200000
DTEND;TZID=Europe/Rome:20250907T223000
DTSTAMP:20260420T052548
CREATED:20250828T173111Z
LAST-MODIFIED:20250828T173111Z
UID:9759-1757275200-1757284200@biancaessenzadellessere.it
SUMMARY:La notte dell'intuizione
DESCRIPTION:LA NOTTE DELL’INTUIZIONE\nLUNA PIENA IN PESCI CON ECLISSI\n \nQuando la Luna Piena si veste del segno dei Pesci\, il Cielo si apre al flusso dei sogni\, alla dissoluzione dei confini e alla magia dell’intuizione. \nL’Eclissi intensificherà il suo richiamo\, illuminando verità nascoste dissolvendo illusioni e portando rivelazioni profonde\, talvolta inaspettate. \nIn questa serata attraverso il movimento del corpo\, la meditazione e la respirazione energetica avrai l’opportunità di lasciare andare schemi rigidi di controllo delle emozioni e abbracciare il flusso divino della vita. \nI Pesci sono il simbolo del mistero\, delle profondità nascoste e della spiritualità. \nLa durata della serata è di circa 2 ore e mezza e il costo è di 25€. \nÈ obbligatoria la prenotazione e l’evento è a numero chiuso. \nÈ consigliato un abbigliamento comodo. \nTi aspetto con gioia! \nBianca \n \n 
URL:https://biancaessenzadellessere.it/evento/la-notte-dellintuizione/
LOCATION:Centro Olistico Lipomo\, Via Gino Grassi 257\, Lipomo\, Co\, 22030\, Italia
CATEGORIES:Attività,Eventi
ORGANIZER;CN="Bianca%20Brandimarte":MAILTO:biancabrandimarte2@gmail.com
END:VEVENT
END:VCALENDAR