BEGIN:VCALENDAR
VERSION:2.0
PRODID:-//Centro Olistico a Como Essenza dell&#039;Essere - ECPv5.9.1//NONSGML v1.0//EN
CALSCALE:GREGORIAN
METHOD:PUBLISH
X-WR-CALNAME:Centro Olistico a Como Essenza dell&#039;Essere
X-ORIGINAL-URL:https://biancaessenzadellessere.it
X-WR-CALDESC:Events for Centro Olistico a Como Essenza dell&#039;Essere
BEGIN:VTIMEZONE
TZID:Europe/Rome
BEGIN:DAYLIGHT
TZOFFSETFROM:+0100
TZOFFSETTO:+0200
TZNAME:CEST
DTSTART:20250330T010000
END:DAYLIGHT
BEGIN:STANDARD
TZOFFSETFROM:+0200
TZOFFSETTO:+0100
TZNAME:CET
DTSTART:20251026T010000
END:STANDARD
END:VTIMEZONE
BEGIN:VEVENT
DTSTART;TZID=Europe/Rome:20250921T170000
DTEND;TZID=Europe/Rome:20250921T193000
DTSTAMP:20260420T052706
CREATED:20250909T134422Z
LAST-MODIFIED:20250909T145646Z
UID:9769-1758474000-1758483000@biancaessenzadellessere.it
SUMMARY:FESTA D'AUTUNNO
DESCRIPTION:Domenica 21 settembre dalle ore 17 alle ore 19.30 il Centro Essenza dell’Essere aprirà le sue porte per celebrare l’Equinozio di Autunno. \nUn’occasione speciale per conoscere le attività del Centro e partecipare alla Cerimonia del Cacao! \nL’evento è gratuito e aperto a tutti su prenotazione. \nIndossate un abbigliamento comodo dai colori chiari e/o colorati (non scuri). \nVi aspetto con gioia \nBianca \n \n 
URL:https://biancaessenzadellessere.it/evento/festa-dautunno/
LOCATION:Centro Olistico Lipomo\, Via Gino Grassi 257\, Lipomo\, Co\, 22030\, Italia
CATEGORIES:Attività,Eventi
ORGANIZER;CN="Bianca%20Brandimarte":MAILTO:biancabrandimarte2@gmail.com
END:VEVENT
END:VCALENDAR