BEGIN:VCALENDAR
VERSION:2.0
PRODID:-//Centro Olistico a Como Essenza dell&#039;Essere - ECPv5.9.1//NONSGML v1.0//EN
CALSCALE:GREGORIAN
METHOD:PUBLISH
X-WR-CALNAME:Centro Olistico a Como Essenza dell&#039;Essere
X-ORIGINAL-URL:https://biancaessenzadellessere.it
X-WR-CALDESC:Events for Centro Olistico a Como Essenza dell&#039;Essere
BEGIN:VTIMEZONE
TZID:Europe/Rome
BEGIN:DAYLIGHT
TZOFFSETFROM:+0100
TZOFFSETTO:+0200
TZNAME:CEST
DTSTART:20250330T010000
END:DAYLIGHT
BEGIN:STANDARD
TZOFFSETFROM:+0200
TZOFFSETTO:+0100
TZNAME:CET
DTSTART:20251026T010000
END:STANDARD
END:VTIMEZONE
BEGIN:VEVENT
DTSTART;TZID=Europe/Rome:20251012T100000
DTEND;TZID=Europe/Rome:20251012T180000
DTSTAMP:20260420T033956
CREATED:20250925T141933Z
LAST-MODIFIED:20250925T143025Z
UID:9826-1760263200-1760292000@biancaessenzadellessere.it
SUMMARY:Abbondanza
DESCRIPTION:VIVI L’ABBONDANZA\nTROVA IL TUO RAPPORTO FLUIDO CON IL DENARO\n \nA Cosa Serve una Giornata di Crescita Personale come “Vivi l’Abbondanza”? \nUna giornata come questa serve a innescare un cambiamento profondo nella tua relazione con il denaro e\, più in generale\, con la prosperità. Non si tratta di imparare a “diventare ricchi” velocemente\, ma di trasformare la tua mentalità. \nEcco i principali obiettivi e benefici: \nIdentificare e Superare i Blocchi Interiori: Molto spesso\, non è la mancanza di opportunità a limitarci\, ma le nostre convinzioni inconsce sul denaro. Frasi come “i soldi sono sporchi”\, “non sono bravo a gestire i soldi” o “non me lo merito” creano un blocco energetico e psicologico che impedisce alla prosperità di fluire. Questa giornata ti aiuta a portare alla luce queste credenze e a sostituirle con pensieri positivi e potenzianti. \nCreare un Rapporto Sano e Fluido col Denaro: Il denaro è una forma di energia. Quando ne abbiamo paura\, lo accumuliamo o lo respingiamo\, creiamo una relazione disfunzionale. L’obiettivo è vederlo come un alleato per la tua vita\, uno strumento che può servire al tuo benessere e alla tua crescita. Si impara a riceverlo senza senso di colpa e a spenderlo con intenzione e gioia\, piuttosto che per ansia o impulsività. \nAmpliare il Concetto di Abbondanza: Il denaro è solo una parte dell’abbondanza. Questa giornata ti aiuta a capire che l’abbondanza si manifesta anche in relazioni significative\, salute\, tempo libero\, creatività e gioia. Cambiando la tua mentalità di scarsità in mentalità di abbondanza\, inizi ad attrarre e a riconoscere la prosperità in ogni aspetto della tua vita. \nIn sintesi\, una giornata di questo tipo serve a liberarti dalla schiavitù psicologica legata al denaro e a farti sentire più libero\, più fiducioso e più aperto a ricevere la prosperità che desideri\, in tutte le sue forme. \nLa durata della giornata è dalle ore 10 alle ore 18 e il costo è di 75€. \nÈ consigliato un abbigliamento comodo. \nÈ obbligatoria la prenotazione entro venerdì 10 ottobre. \nTi aspetto! \nBianca
URL:https://biancaessenzadellessere.it/evento/abbondanza/
LOCATION:Centro Olistico Lipomo\, Via Gino Grassi 257\, Lipomo\, Co\, 22030\, Italia
CATEGORIES:Attività,Eventi
ORGANIZER;CN="Bianca%20Brandimarte":MAILTO:biancabrandimarte2@gmail.com
END:VEVENT
END:VCALENDAR