BEGIN:VCALENDAR
VERSION:2.0
PRODID:-//Centro Olistico a Como Essenza dell&#039;Essere - ECPv5.9.1//NONSGML v1.0//EN
CALSCALE:GREGORIAN
METHOD:PUBLISH
X-WR-CALNAME:Centro Olistico a Como Essenza dell&#039;Essere
X-ORIGINAL-URL:https://biancaessenzadellessere.it
X-WR-CALDESC:Events for Centro Olistico a Como Essenza dell&#039;Essere
BEGIN:VTIMEZONE
TZID:Europe/Rome
BEGIN:DAYLIGHT
TZOFFSETFROM:+0100
TZOFFSETTO:+0200
TZNAME:CEST
DTSTART:20260329T010000
END:DAYLIGHT
BEGIN:STANDARD
TZOFFSETFROM:+0200
TZOFFSETTO:+0100
TZNAME:CET
DTSTART:20261025T010000
END:STANDARD
END:VTIMEZONE
BEGIN:VEVENT
DTSTART;TZID=Europe/Rome:20260217T200000
DTEND;TZID=Europe/Rome:20260217T223000
DTSTAMP:20260419T205114
CREATED:20260209T102144Z
LAST-MODIFIED:20260209T102225Z
UID:10037-1771358400-1771367400@biancaessenzadellessere.it
SUMMARY:La notte della liberazione
DESCRIPTION:LA NOTTE DELLA LIBERAZIONE\nCERIMONIA DEL RAPE’ E RESPIRO\n \nQuesta Luna Nuova in Acquario con Eclissi Solare del 17 febbraio 2026 rappresenta una frattura nel tempo lineare. \nNon è una semplice lunazione di inizio\, ma un collasso di vecchie strutture mentali per far spazio a una frequenza che non abbiamo ancora mai abitato pienamente. \nCi sarà un grande reset evolutivo che ci porterà ad un innalzamento delle frequenze sul nostro Pianeta. \nL’Aria sarà elettrica e il vecchio Mondo improvvisamente sarà “stretto”. \nL’oscuramento del Sole in Acquario simboleggia la caduta definitiva delle maschere sociali e dei vecchi schemi mentali che limitano la libertà dell’anima di manifestarsi. \nSi spezzano i legami con il passato per liberare un nuovo futuro. \nQuesto evento segnerà il passaggio dall’Io al Noi; questa forza che sentiremo spingerà l’umanità verso una condivisione di intenti e valori più profondi. \nAttraverso il soffio sacro del rapè aiuteremo i nostri canali energetici a ripulirsi silenziando la mente per vivere in profondità e in connessione dentro di noi questo momento di grande liberazione. \nCon il respiro andremo a lasciare i pesi del passato\, l’eredità genealogica che non ci appartiene più\, insieme alle vecchie storie che ci hanno tenuti prigionieri. \nNoi siamo il ponte tra il vecchio e il nuovo mondo. Noi siamo il cambiamento che abbiamo atteso. \n  \nLa durata della serata è di circa 2 ore e mezza e il costo è di 25€. \nÈ obbligatoria la prenotazione e l’evento è a numero chiuso. \nÈ consigliato un abbigliamento comodo. \nVi aspetto con gioia! \nBianca \n 
URL:https://biancaessenzadellessere.it/evento/la-notte-della-liberazione/
LOCATION:Centro Olistico Lipomo\, Via Gino Grassi 257\, Lipomo\, Co\, 22030\, Italia
ORGANIZER;CN="Bianca%20Brandimarte":MAILTO:biancabrandimarte2@gmail.com
END:VEVENT
END:VCALENDAR