BEGIN:VCALENDAR
VERSION:2.0
PRODID:-//Centro Olistico a Como Essenza dell&#039;Essere - ECPv5.9.1//NONSGML v1.0//EN
CALSCALE:GREGORIAN
METHOD:PUBLISH
X-WR-CALNAME:Centro Olistico a Como Essenza dell&#039;Essere
X-ORIGINAL-URL:https://biancaessenzadellessere.it
X-WR-CALDESC:Events for Centro Olistico a Como Essenza dell&#039;Essere
BEGIN:VTIMEZONE
TZID:Europe/Rome
BEGIN:DAYLIGHT
TZOFFSETFROM:+0100
TZOFFSETTO:+0200
TZNAME:CEST
DTSTART:20260329T010000
END:DAYLIGHT
BEGIN:STANDARD
TZOFFSETFROM:+0200
TZOFFSETTO:+0100
TZNAME:CET
DTSTART:20261025T010000
END:STANDARD
END:VTIMEZONE
BEGIN:VEVENT
DTSTART;TZID=Europe/Rome:20260411T100000
DTEND;TZID=Europe/Rome:20260411T183000
DTSTAMP:20260419T195652
CREATED:20230420T194053Z
LAST-MODIFIED:20260309T135231Z
UID:8488-1775901600-1775932200@biancaessenzadellessere.it
SUMMARY:COSTELLAZIONI FAMILIARI
DESCRIPTION:IL PROSSIMO INCONTRO DI COSTELLAZIONI FAMILIARI SI SVOLGERÀ SABATO 11 APRILE 2026  \n \nPartiamo dal presupposto che ogni individuo è come un nodo in una complessa rete di memorie energetiche legate a tutte le generazioni che lo hanno preceduto. \nSpesso\, portiamo con noi pesi e situazioni irrisolte che non ci appartengono\, eredità inconsce di traumi\, esclusioni o destini difficili vissuti dai nostri antenati. \nQuesti legami “invisibili” possono manifestarsi nella nostra vita sotto forma di blocchi\, malattie\, fallimenti o schemi ripetitivi. \nLe Costellazioni Familiari sono un potente metodo evolutivo per esplorare le dinamiche familiari che possono influenzare la vita di una persona. \nDurante una sessione di Costellazioni\, si entra in un “campo di coscienza o campo morfogenetico” che connette tutti i membri del sistema familiare\, viventi e defunti. \nAttraverso dei rappresentanti\, che si muovono intuitivamente in questo campo\, emergono le dinamiche nascoste\, le lealtà silenziose e gli “ordini” dell’amore che sono stati infranti. \nQuando un’ingiustizia viene vista\, un escluso viene onorato o un destino viene riconosciuto\, l’intero sistema può riorganizzarsi. \nSi ristabilisce l’equilibrio e l’amore può tornare a scorrere liberamente tra le generazioni. \nPartecipare ad un pomeriggio di Costellazioni è un’esperienza che apre ad una nuova visione della propria vita. \nL’importanza della conoscenza delle nostre radici e del nostro albero genealogico ci donano consapevolezza e libertà. \nPossiamo trasformare solo ciò che comprendiamo. \n“SENZA RADICI NON SI VOLA”  – Bert Hellinger \nL’incontro si svolgerà dalle ore 10.00 alle ore 18.00 circa. \nSi consiglia abbigliamento comodo e dai colori chiari. \nIl costo per la partecipazione è di 40€. La prenotazione è obbligatoria. \n \n  \n  \n 
URL:https://biancaessenzadellessere.it/evento/costellazioni-familiari/
LOCATION:Centro Olistico Lipomo\, Via Gino Grassi 257\, Lipomo\, Co\, 22030\, Italia
CATEGORIES:Attività,Corsi
ORGANIZER;CN="Bianca%20Brandimarte":MAILTO:biancabrandimarte2@gmail.com
END:VEVENT
END:VCALENDAR