BEGIN:VCALENDAR
VERSION:2.0
PRODID:-//Centro Olistico a Como Essenza dell&#039;Essere - ECPv5.9.1//NONSGML v1.0//EN
CALSCALE:GREGORIAN
METHOD:PUBLISH
X-WR-CALNAME:Centro Olistico a Como Essenza dell&#039;Essere
X-ORIGINAL-URL:https://biancaessenzadellessere.it
X-WR-CALDESC:Events for Centro Olistico a Como Essenza dell&#039;Essere
BEGIN:VTIMEZONE
TZID:Europe/Rome
BEGIN:DAYLIGHT
TZOFFSETFROM:+0100
TZOFFSETTO:+0200
TZNAME:CEST
DTSTART:20250330T010000
END:DAYLIGHT
BEGIN:STANDARD
TZOFFSETFROM:+0200
TZOFFSETTO:+0100
TZNAME:CET
DTSTART:20251026T010000
END:STANDARD
END:VTIMEZONE
BEGIN:VEVENT
DTSTART;TZID=Europe/Rome:20251007T200000
DTEND;TZID=Europe/Rome:20251007T223000
DTSTAMP:20260420T015752
CREATED:20250917T110554Z
LAST-MODIFIED:20250917T111147Z
UID:9802-1759867200-1759876200@biancaessenzadellessere.it
SUMMARY:La notte del guerriero interiore
DESCRIPTION:LA NOTTE DEL GUERRIERO INTERIORE\nLUNA PIENA IN ARIETE\n  \n \nIl 7 ottobre 2025\, ci sarà una Luna Piena nel segno dell’Ariete. \nQuesto evento segna un momento di culmine e di piena illuminazione per l’energia di questo segno di Fuoco\, noto per la sua audacia\, il suo coraggio e la sua natura impulsiva. \nL’Ariete è il primo segno dello Zodiaco\, associato all’inizio e all’azione. \nDurante questa Luna Piena potresti sentire una forte spinta a prendere l’iniziativa\, a dare il via a nuovi progetti\, o a finalizzare qualcosa che hai iniziato di recente. \nÈ un momento eccellente per agire sui tuoi desideri più autentici senza troppe esitazioni. \nIn questa serata attraverso il movimento del corpo\, la meditazione e la respirazione energetica potrai onorare il tuo vero io\, per prendere in mano la tua vita e abbracciare il presente con rinnovata energia. \nLa durata della serata è di circa 2 ore e mezza e il costo è di 25€. \nÈ obbligatoria la prenotazione e l’evento è a numero chiuso. \nÈ consigliato un abbigliamento comodo. \nTi aspetto con gioia! \nBianca \n \n 
URL:https://biancaessenzadellessere.it/evento/la-notte-del-guerriero-interiore/
LOCATION:Centro Olistico Lipomo\, Via Gino Grassi 257\, Lipomo\, Co\, 22030\, Italia
CATEGORIES:Attività,Eventi
ORGANIZER;CN="Bianca%20Brandimarte":MAILTO:biancabrandimarte2@gmail.com
END:VEVENT
BEGIN:VEVENT
DTSTART;TZID=Europe/Rome:20251012T100000
DTEND;TZID=Europe/Rome:20251012T180000
DTSTAMP:20260420T015752
CREATED:20250925T141933Z
LAST-MODIFIED:20250925T143025Z
UID:9826-1760263200-1760292000@biancaessenzadellessere.it
SUMMARY:Abbondanza
DESCRIPTION:VIVI L’ABBONDANZA\nTROVA IL TUO RAPPORTO FLUIDO CON IL DENARO\n \nA Cosa Serve una Giornata di Crescita Personale come “Vivi l’Abbondanza”? \nUna giornata come questa serve a innescare un cambiamento profondo nella tua relazione con il denaro e\, più in generale\, con la prosperità. Non si tratta di imparare a “diventare ricchi” velocemente\, ma di trasformare la tua mentalità. \nEcco i principali obiettivi e benefici: \nIdentificare e Superare i Blocchi Interiori: Molto spesso\, non è la mancanza di opportunità a limitarci\, ma le nostre convinzioni inconsce sul denaro. Frasi come “i soldi sono sporchi”\, “non sono bravo a gestire i soldi” o “non me lo merito” creano un blocco energetico e psicologico che impedisce alla prosperità di fluire. Questa giornata ti aiuta a portare alla luce queste credenze e a sostituirle con pensieri positivi e potenzianti. \nCreare un Rapporto Sano e Fluido col Denaro: Il denaro è una forma di energia. Quando ne abbiamo paura\, lo accumuliamo o lo respingiamo\, creiamo una relazione disfunzionale. L’obiettivo è vederlo come un alleato per la tua vita\, uno strumento che può servire al tuo benessere e alla tua crescita. Si impara a riceverlo senza senso di colpa e a spenderlo con intenzione e gioia\, piuttosto che per ansia o impulsività. \nAmpliare il Concetto di Abbondanza: Il denaro è solo una parte dell’abbondanza. Questa giornata ti aiuta a capire che l’abbondanza si manifesta anche in relazioni significative\, salute\, tempo libero\, creatività e gioia. Cambiando la tua mentalità di scarsità in mentalità di abbondanza\, inizi ad attrarre e a riconoscere la prosperità in ogni aspetto della tua vita. \nIn sintesi\, una giornata di questo tipo serve a liberarti dalla schiavitù psicologica legata al denaro e a farti sentire più libero\, più fiducioso e più aperto a ricevere la prosperità che desideri\, in tutte le sue forme. \nLa durata della giornata è dalle ore 10 alle ore 18 e il costo è di 75€. \nÈ consigliato un abbigliamento comodo. \nÈ obbligatoria la prenotazione entro venerdì 10 ottobre. \nTi aspetto! \nBianca
URL:https://biancaessenzadellessere.it/evento/abbondanza/
LOCATION:Centro Olistico Lipomo\, Via Gino Grassi 257\, Lipomo\, Co\, 22030\, Italia
CATEGORIES:Attività,Eventi
ORGANIZER;CN="Bianca%20Brandimarte":MAILTO:biancabrandimarte2@gmail.com
END:VEVENT
BEGIN:VEVENT
DTSTART;TZID=Europe/Rome:20251021T200000
DTEND;TZID=Europe/Rome:20251021T223000
DTSTAMP:20260420T015752
CREATED:20251013T091938Z
LAST-MODIFIED:20251013T091938Z
UID:9862-1761076800-1761085800@biancaessenzadellessere.it
SUMMARY:La notte dell'alchimia
DESCRIPTION:LA NOTTE DELL’ALCHIMIA\nUN VIAGGIO DI TRASFORMAZIONE INTERIORE\n \nLa notte dell’Alchimia è un invito a trasformare il piombo della vecchia energia e delle vecchie limitazioni mentali in Oro di consapevolezza e rinnovamento. \nQuesta serata è strutturata come un vero e proprio rito di passaggio\, che unisce due potenti strumenti di purificazione e risveglio: la cerimonia del Rapè per il radicamento e la chiarezza e il Respiro per la Rinascita Emotiva e Spirituale. \nLa serata inizia con il Rapè\, una medicina sacra amazzonica. È un rimedio naturale che agisce come un fulmine di purificazione liberando i seni nasali e il corpo dalle tossine. \nA livello energetico e mentale\, opera un reset istantaneo portando radicamento\, chiarezza mentale e connessione con gli spiriti della Natura e la propria saggezza interiore. \nDopo la chiarezza e il radicamento offerti dal Rapè attraverso la pratica del Respiro consapevole\, inizierà una rinascita della propria energia vitale. \nQuesta serata apre il Cuore ad un profondo stato di benessere\, pace e connessione con il Sé Superiore. \nLa durata della serata è di circa 2 ore e mezza e il costo è di 25€. \nÈ obbligatoria la prenotazione e l’evento è a numero chiuso. \nÈ consigliato un abbigliamento comodo. \nTi aspetto con gioia! \nBianca \n \n 
URL:https://biancaessenzadellessere.it/evento/la-notte-dellalchimia/
LOCATION:Centro Olistico Lipomo\, Via Gino Grassi 257\, Lipomo\, Co\, 22030\, Italia
ORGANIZER;CN="Bianca%20Brandimarte":MAILTO:biancabrandimarte2@gmail.com
END:VEVENT
END:VCALENDAR