BEGIN:VCALENDAR
VERSION:2.0
PRODID:-//Centro Olistico a Como Essenza dell&#039;Essere - ECPv5.9.1//NONSGML v1.0//EN
CALSCALE:GREGORIAN
METHOD:PUBLISH
X-WR-CALNAME:Centro Olistico a Como Essenza dell&#039;Essere
X-ORIGINAL-URL:https://biancaessenzadellessere.it
X-WR-CALDESC:Events for Centro Olistico a Como Essenza dell&#039;Essere
BEGIN:VTIMEZONE
TZID:Europe/Rome
BEGIN:DAYLIGHT
TZOFFSETFROM:+0100
TZOFFSETTO:+0200
TZNAME:CEST
DTSTART:20250330T010000
END:DAYLIGHT
BEGIN:STANDARD
TZOFFSETFROM:+0200
TZOFFSETTO:+0100
TZNAME:CET
DTSTART:20251026T010000
END:STANDARD
END:VTIMEZONE
BEGIN:VEVENT
DTSTART;TZID=Europe/Rome:20251105T200000
DTEND;TZID=Europe/Rome:20251105T223000
DTSTAMP:20260420T001700
CREATED:20251021T132516Z
LAST-MODIFIED:20251021T133649Z
UID:9881-1762372800-1762381800@biancaessenzadellessere.it
SUMMARY:La notte della gratitudine
DESCRIPTION:LA NOTTE DELLA GRATITUDINE\nLUNA PIENA IN TORO\n \nIl 5 novembre 2025\, ci sarà una Luna Piena nel segno del Toro. \nLa Luna Piena in Toro si verifica quando il Sole si trova nel segno opposto\, lo Scorpione. \nIl Toro è il segno del piacere\, del nutrimento e della bellezza; lo Scorpione è il segno della trasformazione e della rinascita. \nQuesti due Segni hanno un’energia molto profonda e intensa. Ogni Luna rappresenta un momento di massima introspezione e rivelazione interiore. \nSi chiudono cicli e si lascia andare ciò che non serve più. \nIn questa serata attraverso il movimento del corpo\, la meditazione e la respirazione energetica potrai risvegliare la gratitudine\, per allenare la mente e il cuore a ricevere più abbondanza e prosperità. \nLa durata della serata è di circa 2 ore e mezza e il costo è di 25€. \nÈ obbligatoria la prenotazione e l’evento è a numero chiuso. \nÈ consigliato un abbigliamento comodo. \nTi aspetto con gioia! \nBianca
URL:https://biancaessenzadellessere.it/evento/la-notte-della-gratitudine/
LOCATION:Centro Olistico Lipomo\, Via Gino Grassi 257\, Lipomo\, Co\, 22030\, Italia
CATEGORIES:Attività,Eventi
ORGANIZER;CN="Bianca%20Brandimarte":MAILTO:biancabrandimarte2@gmail.com
END:VEVENT
BEGIN:VEVENT
DTSTART;TZID=Europe/Rome:20251120T200000
DTEND;TZID=Europe/Rome:20251120T223000
DTSTAMP:20260420T001700
CREATED:20251103T094553Z
LAST-MODIFIED:20251103T095818Z
UID:9935-1763668800-1763677800@biancaessenzadellessere.it
SUMMARY:La notte dell'energia vitale
DESCRIPTION:LA NOTTE DELL’ENERGIA VITALE\nMEDITAZIONE KUNDALINI E RESPIRO\n \nNelle antiche discipline orientali la Kundalini è una dea serpente che dorme alla base della nostra spina dorsale. \nQuesta dea assopita conserva un’energia potente che\, se risvegliata\, permette all’essere umano di diventare un ponte di trasmissione di questa energia creativa. \nIn questa serata attraverso una meditazione dinamica \, degli esercizi fisici di preparazione e la respirazione guidata e consapevole\, potrai sperimentare una grande intensità \ntrasformativa attivando questo potenziale che vive dentro di te. \nLa durata della serata è di circa 2 ore e mezza e il costo è di 25€. \nÈ obbligatoria la prenotazione e l’evento è a numero chiuso. \nTi consiglio un abbigliamento comodo con un cambio. \nTi aspetto con gioia! \nBianca
URL:https://biancaessenzadellessere.it/evento/la-notte-dellenergia-vitale/
LOCATION:Centro Olistico Lipomo\, Via Gino Grassi 257\, Lipomo\, Co\, 22030\, Italia
CATEGORIES:Attività,Eventi
ORGANIZER;CN="Bianca%20Brandimarte":MAILTO:biancabrandimarte2@gmail.com
END:VEVENT
BEGIN:VEVENT
DTSTART;TZID=Europe/Rome:20251123T100000
DTEND;TZID=Europe/Rome:20251123T180000
DTSTAMP:20260420T001700
CREATED:20251101T113439Z
LAST-MODIFIED:20251101T113439Z
UID:9919-1763892000-1763920800@biancaessenzadellessere.it
SUMMARY:Ascolta il tuo corpo
DESCRIPTION:ASCOLTO IL TUO CORPO\nRITROVA L’ARMONIA IN TE\n \nA Cosa Serve una Giornata di Crescita Personale come “Ascolta il tuo corpo?”\nLa nostra mente\, mente. Il nostro corpo invece è l’unico strumento che ci permette di vivere il momento presente e contattare la verità profonda del nostro essere. \nIn questa giornata ti guiderò ad entrare in ascolto delle sensazioni del tuo corpo per ripristinare l’armonia tra la mente e il corpo. \nAttraverso gli esercizi di respiro\, meditazione e tecniche sensoriali ti accompagnerò a: \nrallentare e centrarti lasciando fuori il rumore della quotidianità per entrare in uno spazio di calma interiore; \ndecifrare i messaggi del corpo imparando a riconoscere e interpretare i segnali fisici (tensioni\, dolori\, stanchezza) non come nemici ma come preziose comunicazioni sui tuoi stati emotivi e sui bisogni non ascoltati; \nvivere nel qui e ora utilizzando il corpo come un’ancora per restare saldamente nel momento presente\, liberandoti dal peso dei pensieri ricorrenti sul passato o sul futuro. \nPerchè fare questa esperienza?\nImparerai tecniche semplici ma potenti di respiro\, meditazione e movimento che potrai integrare immediatamente nella tua quotidianità per gestire meglio lo stress e le sfide. \nPer riconnetterti con i tuoi bisogni e ristabilire un dialogo essenziale con te stesso comprendendo veramente di cosa hai bisogno per sentirti in armonia. \nLa durata della giornata è dalle ore 10 alle ore 18 e il costo è di 75€. \nÈ consigliato un abbigliamento comodo. \nÈ obbligatoria la prenotazione entro venerdì 21 novembre. \nTi aspetto! \nBianca \n \n  \n 
URL:https://biancaessenzadellessere.it/evento/ascolta-il-tuo-corpo/
LOCATION:Centro Olistico Lipomo\, Via Gino Grassi 257\, Lipomo\, Co\, 22030\, Italia
CATEGORIES:Attività,Eventi
ORGANIZER;CN="Bianca%20Brandimarte":MAILTO:biancabrandimarte2@gmail.com
END:VEVENT
BEGIN:VEVENT
DTSTART;TZID=Europe/Rome:20251128T150000
DTEND;TZID=Europe/Rome:20251130T180000
DTSTAMP:20260420T001700
CREATED:20241102T170904Z
LAST-MODIFIED:20250915T073019Z
UID:9420-1764342000-1764525600@biancaessenzadellessere.it
SUMMARY:RESIDENZIALE INVERNALE
DESCRIPTION:RINASCERE ALLA VITA: UN VIAGGIO NEL GREMBO DELL’ ACQUA\nQuesto residenziale è un’esperienza unica e trasformativa. \nÈ un viaggio profondo e intimo\, dove l’acqua calda diventa lo strumento di Rinascita\, per riconnettersi con la propria essenza sciogliendo antichi blocchi emotivi e fisici. \nAl momento della nascita le memorie di quell’evento creano un imprinting fisiologico ed emotivo che condizionano il nostro carattere e come viviamo. \nAttraverso la pratica del Rebirthing in acqua calda\, una tecnica di respirazione consapevole\, si possono liberare queste memorie ed avere un beneficio di profondo rilassamento che permette al respiro di diventare più libero e fluido. \nQuesto residenziale è stato pensato proprio per ricontattare e trasformare l’evento più significativo della nostra vita che è la Nascita; il momento in cui la nostra Anima decide di venire sul pianeta per fare un’esperienza terrena. \nDa venerdì 28 novembre alle ore 15 a domenica 30 novembre alle ore 18. \nCosto per la partecipazione 420€ (comprensivo di vitto e alloggio). È obbligatoria l’iscrizione entro il 31 ottobre con acconto di 200€. \nSi tratta di un evento a numero chiuso con massimo 12 partecipanti. \nPer maggiori informazioni \nbiancabrandimarte2@gmail.com  \n3394784634 \nCon gioia \nBianca
URL:https://biancaessenzadellessere.it/evento/residenziale-invernale/
LOCATION:Agriturismo Olistico Atman\, Strada Nuvolino 24\, Monzambano\, MN\, 46090\, Italia
CATEGORIES:Attività,Eventi
ORGANIZER;CN="Bianca%20Brandimarte":MAILTO:biancabrandimarte2@gmail.com
END:VEVENT
END:VCALENDAR