BEGIN:VCALENDAR
VERSION:2.0
PRODID:-//Centro Olistico a Como Essenza dell&#039;Essere - ECPv5.9.1//NONSGML v1.0//EN
CALSCALE:GREGORIAN
METHOD:PUBLISH
X-WR-CALNAME:Centro Olistico a Como Essenza dell&#039;Essere
X-ORIGINAL-URL:https://biancaessenzadellessere.it
X-WR-CALDESC:Events for Centro Olistico a Como Essenza dell&#039;Essere
BEGIN:VTIMEZONE
TZID:Europe/Rome
BEGIN:DAYLIGHT
TZOFFSETFROM:+0100
TZOFFSETTO:+0200
TZNAME:CEST
DTSTART:20260329T010000
END:DAYLIGHT
BEGIN:STANDARD
TZOFFSETFROM:+0200
TZOFFSETTO:+0100
TZNAME:CET
DTSTART:20261025T010000
END:STANDARD
END:VTIMEZONE
BEGIN:VEVENT
DTSTART;TZID=Europe/Rome:20260118T200000
DTEND;TZID=Europe/Rome:20260118T223000
DTSTAMP:20260419T205256
CREATED:20260107T154942Z
LAST-MODIFIED:20260107T154942Z
UID:10009-1768766400-1768775400@biancaessenzadellessere.it
SUMMARY:Fai vibrare il tuo cuore
DESCRIPTION:FAI VIBRARE IL TUO CUORE\nHEART CHAKRA MEDITATION E\nRESPIRAZIONE ENERGETICA\n \nSotto il Cielo della Prima Luna Nuova dell’anno che sarà nel segno del Capricorno\, \nti aspetto per una serata speciale colma di intenzioni e buoni propositi per il 2026. \nIl Capricorno ci insegna che per arrivare in cima alla montagna serve una struttura solida\, ma è il cuore a indicarci quale vetta scalare. \nIn questa serata uniremo la forza della respirazione energetica alla meditazione del Cuore (Heart Chakra Meditation) per ascoltare ciò che vibra davvero dentro di noi. \nÈ un’occasione per piantare i semi di ciò che si vuole costruire in questo anno\, con la concretezza della terra e la saggezza dell’anima. \nChe cosa voglio costruire in questo anno? La riposta è custodita nel cuore \n  \nLa durata della serata è di circa 2 ore e mezza e il costo è di 25€. \nÈ obbligatoria la prenotazione e l’evento è a numero chiuso. \nÈ consigliato un abbigliamento comodo. \nTi aspetto con gioia! \nBianca \n \n  \n 
URL:https://biancaessenzadellessere.it/evento/fai-vibrare-il-tuo-cuore/
LOCATION:Centro Olistico Lipomo\, Via Gino Grassi 257\, Lipomo\, Co\, 22030\, Italia
ORGANIZER;CN="Bianca%20Brandimarte":MAILTO:biancabrandimarte2@gmail.com
END:VEVENT
END:VCALENDAR