BEGIN:VCALENDAR
VERSION:2.0
PRODID:-//Centro Olistico a Como Essenza dell&#039;Essere - ECPv5.9.1//NONSGML v1.0//EN
CALSCALE:GREGORIAN
METHOD:PUBLISH
X-WR-CALNAME:Centro Olistico a Como Essenza dell&#039;Essere
X-ORIGINAL-URL:https://biancaessenzadellessere.it
X-WR-CALDESC:Events for Centro Olistico a Como Essenza dell&#039;Essere
BEGIN:VTIMEZONE
TZID:Europe/Rome
BEGIN:DAYLIGHT
TZOFFSETFROM:+0100
TZOFFSETTO:+0200
TZNAME:CEST
DTSTART:20260329T010000
END:DAYLIGHT
BEGIN:STANDARD
TZOFFSETFROM:+0200
TZOFFSETTO:+0100
TZNAME:CET
DTSTART:20261025T010000
END:STANDARD
END:VTIMEZONE
BEGIN:VEVENT
DTSTART;TZID=Europe/Rome:20260517T100000
DTEND;TZID=Europe/Rome:20260517T183000
DTSTAMP:20260421T143743
CREATED:20260420T174931Z
LAST-MODIFIED:20260420T174931Z
UID:10118-1779012000-1779042600@biancaessenzadellessere.it
SUMMARY:Abracadabra
DESCRIPTION:ABRACADRA\nCREA LA TUA MAGIA\n \nUn’esperienza di risveglio\, creatività e gioia \nCreo ciò che dico.. Creo ciò che penso ♥️ \nTi ricordi quando da bambino bastava un ramo per trasformare il mondo?\nQuella capacità di stupirsi non è svanita\, è solo rimasta in attesa.. \nDomenica 17 maggio \nAngela ed io vi invitiamo a una giornata interamente dedicata a riaccendere la scintilla del tuo Bambino Interiore \nCosa vivremo insieme?\nUn laboratorio esperienziale dove le mani daranno forma all’invisibile e il corpo tornerà a vibrare di leggerezza: \n🪄 Il Laboratorio della Bacchetta Magica\nNon un semplice oggetto\, ma un simbolo del tuo potere personale..\nImparerai a costruirla e a “puntare” la tua intenzione verso ciò che desideri manifestare✨ \n🔔 La Creazione del Chiama Angeli\nUn manufatto di suono e armonia per richiamare protezione\, pace e connessione con le frequenze più sottili. \n💃 Danza\, Gioco e Movimento\nLibereremo le tensioni attraverso il ritmo\, lasciando che sia la gioia a guidare i nostri passi. \nPerché partecipare?\nPer staccare la spina dalla serietà del quotidiano..\nPer riscoprire che la spiritualità può (e deve!) essere divertimento\, condivisione e colore. \nUscirai da questa giornata con strumenti concreti\, un cuore più leggero e la tua tribù intorno \n📍 Dove e Quando\nData domenica 17 maggio\nOrario dalle 10.00 alle 18.30\nLuogo Centro Olistico Essenza dell’Essere.\nVia Gino Grassi 257 Lipomo \nIl contributo per l’intera giornata intera ë di 75 euro. \nPranzo condiviso puoi portare con te qualcosa da condividere con gli altri ♥️ \nAbbigliamento comodo dai colori chiari o colorati ed una maglia vecchia che si possa eventualmente tingere di colori o altro materiale creativo 🎨 \nPrenota il tuo posto nel cerchio!\nLa magia ha bisogno di spazio e cura..\ni posti sono limitati 🙏🏼♥️
URL:https://biancaessenzadellessere.it/evento/abracadabra/
LOCATION:Centro Olistico Lipomo\, Via Gino Grassi 257\, Lipomo\, Co\, 22030\, Italia
CATEGORIES:Attività,Eventi
ORGANIZER;CN="Bianca%20Brandimarte":MAILTO:biancabrandimarte2@gmail.com
END:VEVENT
END:VCALENDAR