BEGIN:VCALENDAR
VERSION:2.0
PRODID:-//Centro Olistico a Como Essenza dell&#039;Essere - ECPv5.9.1//NONSGML v1.0//EN
CALSCALE:GREGORIAN
METHOD:PUBLISH
X-WR-CALNAME:Centro Olistico a Como Essenza dell&#039;Essere
X-ORIGINAL-URL:https://biancaessenzadellessere.it
X-WR-CALDESC:Events for Centro Olistico a Como Essenza dell&#039;Essere
BEGIN:VTIMEZONE
TZID:Europe/Rome
BEGIN:DAYLIGHT
TZOFFSETFROM:+0100
TZOFFSETTO:+0200
TZNAME:CEST
DTSTART:20240331T010000
END:DAYLIGHT
BEGIN:STANDARD
TZOFFSETFROM:+0200
TZOFFSETTO:+0100
TZNAME:CET
DTSTART:20241027T010000
END:STANDARD
END:VTIMEZONE
BEGIN:VEVENT
DTSTART;TZID=Europe/Rome:20240428T100000
DTEND;TZID=Europe/Rome:20240428T183000
DTSTAMP:20260419T162343
CREATED:20220903T131250Z
LAST-MODIFIED:20240611T144617Z
UID:8807-1714298400-1714329000@biancaessenzadellessere.it
SUMMARY:FONDAMENTA DI NUMEROLOGIA ESOTERICA
DESCRIPTION:IL CORSO SI È CONCLUSO CON LA CONSEGNA DEGLI ATTESTATI AI PARTECIPANTI. UNA NUOVA EDIZIONE NON È ANCORA IN CALENDARIO. SE SEI INTERESSATO/A SCRIVIMI : biancabrandimarte2@gmail.com  \n“I numeri regnano sull’universo”.(Pitagora)\nLa numerologia esoterica è una disciplina che si basa sulla teoria che i numeri siano la chiave per comprendere l’universo e la vita stessa.\nSecondo questa teoria ogni numero ha un significato specifico e può essere utilizzato per rivelare informazioni sulle persone\, sugli eventi e sul mondo che ci circonda.\nLa nostra data di nascita e il nome e cognome sono il nostro codice PIN energetico e nel corso della vita portano il mistero dell’evoluzione della nostra consapevolezza.\nLo studio della Numerologia aiuta a comprendere la ragione più grande che sta dietro a ciò che ci accade\, soprattutto per comprendere quelle situazioni della vita di tutti i giorni che la nostra parte razionale ha difficoltà ad interpretare. \nLa Numerologia è uno strumento che ci aiuta ad andare verso la nostra essenza ed allinearci con l’intento animico\, è un simbolo per attingere alla memoria della saggezza più antica portando alla luce i nostri doni e i nostri talenti. \nL’universo pensa e crea attraverso formule matematiche; i numeri sono un linguaggio che possiamo imparare per interpretare meglio il flusso della vita e capire dove l’evoluzione ci sta conducendo. \nQuesto corso articolato in moduli e della durata di tre weekend offre un buon ritratto psicologico di base dei numeri\, e permette di accedere alla comprensione della personalità man mano che essa apprende come allinearsi al Sè Superiore. \nAlla fine del corso i partecipanti saranno in grado di creare ed interpretare la loro carta numerologica.   \nProgramma: \nModulo 1: i Numeri come Maestri \n1 Genesi \n2 Attributi \n3 Anno\, Mese\, Giorno \n Modulo 2: Manifestare la Saggezza \n4 Geometria Sacra \n5 La Trasformazione dei Numeri \n6 Gematria (le lezioni del passato) \n \nModulo 3: Trascendere L’ Intelletto \n7 I Numeri e lo Sviluppo Personale \n8 Visitare gli Antichi Sistemi (con una mente aperta) \n9 Riflettere sui simboli personali. \n  \nDate del corso : \nSABATO E DOMENICA  6 -7 APRILE 2024 – Dalle 10 alle 13 e dalle 14. alle 18.30 \nSABATO E DOMENICA  27-28 APRILE 2024 Dalle 10 alle 13 e dalle 14. alle 18.30 \nSABATO E DOMENICA 11-12 MAGGIO 2024 Dalle 10 alle 13 e dalle 14. alle 18.30 \nIl costo del corso è di 530€.  Per confermare la propria iscrizione bisogna versare 280€ entro il 31 marzo 2024. Il saldo del corso andrà versato entro il 10 maggio 2024. \nAi partecipanti verrà rilasciato l’attestato di partecipazione da parte dell’Associazione Internazionale dei Numerologi (AIN). \nPer maggiori informazioni Clicca qui sarai ricontattato al più presto
URL:https://biancaessenzadellessere.it/evento/corso-delle-fondamenta-di-numerologia-esoterica/2024-04-28/
LOCATION:Centro Olistico Lipomo\, Via Gino Grassi 257\, Lipomo\, Co\, 22030\, Italia
CATEGORIES:Attività,Corsi
ATTACH;FMTTYPE=image/jpeg:https://biancaessenzadellessere.it/wp-content/uploads/2022/09/numerologia7.jpg
ORGANIZER;CN="Bianca%20Brandimarte":MAILTO:biancabrandimarte2@gmail.com
END:VEVENT
END:VCALENDAR